{
 "currentVersion": 10.71,
 "serviceDescription": "City of Little Rock Aerial Photography 1943",
 "name": "Mosaic_1943_Aerial_Photography",
 "description": "City of Little Rock Aerial Photography 1943",
 "extent": {
  "xmin": 1163830.1240970453,
  "ymin": 101002.16592586852,
  "xmax": 1275903.2487826657,
  "ymax": 159446.5729509974,
  "spatialReference": {
   "wkid": 102651,
   "latestWkid": 3433
  }
 },
 "initialExtent": {
  "xmin": 1163830.1240970453,
  "ymin": 101002.16592586852,
  "xmax": 1275903.2487826657,
  "ymax": 159446.5729509974,
  "spatialReference": {
   "wkid": 102651,
   "latestWkid": 3433
  }
 },
 "fullExtent": {
  "xmin": 1163830.1240970453,
  "ymin": 101002.16592586852,
  "xmax": 1275903.2487826657,
  "ymax": 159446.5729509974,
  "spatialReference": {
   "wkid": 102651,
   "latestWkid": 3433
  }
 },
 "pixelSizeX": 2.4211610681937485,
 "pixelSizeY": 2.421161068193747,
 "bandCount": 1,
 "pixelType": "U16",
 "minPixelSize": 0.5208333333333333,
 "maxPixelSize": 130.20833333333331,
 "copyrightText": "USGS",
 "serviceDataType": "esriImageServiceDataTypeGeneric",
 "minValues": [
  0
 ],
 "maxValues": [
  255
 ],
 "meanValues": [
  130.4588420332528
 ],
 "stdvValues": [
  34.85281986705127
 ],
 "objectIdField": "",
 "fields": [],
 "capabilities": "Image,Mensuration,Metadata,Tilemap",
 "defaultMosaicMethod": "Center",
 "allowedMosaicMethods": "",
 "sortField": "",
 "sortValue": null,
 "mosaicOperator": "First",
 "defaultCompressionQuality": 75,
 "defaultResamplingMethod": "Bilinear",
 "maxImageHeight": 4100,
 "maxImageWidth": 15000,
 "singleFusedMapCache": true,
 "tileInfo": {
  "rows": 256,
  "cols": 256,
  "dpi": 96,
  "format": "JPEG",
  "compressionQuality": 90,
  "origin": {
   "x": -122328300,
   "y": 153372800
  },
  "spatialReference": {
   "wkid": 102651,
   "latestWkid": 3433
  },
  "lods": [
   {
    "level": 0,
    "resolution": 130.20833333333331,
    "scale": 150000
   },
   {
    "level": 1,
    "resolution": 43.40277777777778,
    "scale": 50000
   },
   {
    "level": 2,
    "resolution": 20.833333333333332,
    "scale": 24000
   },
   {
    "level": 3,
    "resolution": 10.416666666666666,
    "scale": 12000
   },
   {
    "level": 4,
    "resolution": 5.208333333333333,
    "scale": 6000
   },
   {
    "level": 5,
    "resolution": 3.125,
    "scale": 3600
   },
   {
    "level": 6,
    "resolution": 2.083333333333333,
    "scale": 2400
   },
   {
    "level": 7,
    "resolution": 1.0416666666666665,
    "scale": 1200
   },
   {
    "level": 8,
    "resolution": 0.5208333333333333,
    "scale": 600
   }
  ]
 },
 "cacheType": "Map",
 "allowRasterFunction": true,
 "rasterFunctionInfos": [
  {
   "name": "None",
   "description": "",
   "help": ""
  }
 ],
 "rasterTypeInfos": [
  {
   "name": "Raster Dataset",
   "description": "Supports all ArcGIS Raster Datasets",
   "help": ""
  }
 ],
 "mensurationCapabilities": "Basic",
 "hasHistograms": true,
 "hasColormap": false,
 "hasRasterAttributeTable": false,
 "minScale": 150000,
 "maxScale": 600,
 "minLOD": 0,
 "maxLOD": 8,
 "exportTilesAllowed": false,
 "hasMultidimensions": false,
 "supportsStatistics": false,
 "supportsAdvancedQueries": false,
 "editFieldsInfo": null,
 "ownershipBasedAccessControlForRasters": null,
 "allowComputeTiePoints": false,
 "useStandardizedQueries": true,
 "advancedQueryCapabilities": {
  "useStandardizedQueries": true,
  "supportsStatistics": false,
  "supportsOrderBy": false,
  "supportsDistinct": false,
  "supportsPagination": false
 },
 "spatialReference": {
  "wkid": 102651,
  "latestWkid": 3433
 }
}
