View In:
ArcGIS JavaScript
ArcGIS Online Map Viewer
ArcGIS Earth
ArcMap
View Footprint In:
ArcGIS Online Map Viewer
Service Description: General Land Office Survey Plats Little Rock Area
Name: Historic_GLO_Plats
Description: General Land Office Survey Plats Little Rock Area
Single Fused Map Cache: true
Tile Info:
- Height: 256
- Width: 256
- DPI: 96
-
Levels of Detail: 9
- Format: JPEG
- Compression Quality: 90.0
- LERC Error: NaN
- Origin: X: -1.223283E8
Y: 1.533728E8
- Spatial Reference: 102651
(3433)
Extent:
XMin: 1113088.4517741457
YMin: 89617.06712077427
XMax: 1302580.6344511276
YMax: 221369.4344274629
Spatial Reference: 102651
(3433)
Initial Extent:
XMin: 1113088.4517741457
YMin: 89617.06712077427
XMax: 1302580.6344511276
YMax: 221369.4344274629
Spatial Reference: 102651
(3433)
Full Extent:
XMin: 1113088.4517741457
YMin: 89617.06712077427
XMax: 1302580.6344511276
YMax: 221369.4344274629
Spatial Reference: 102651
(3433)
Pixel Size X: 6.10103939846685
Pixel Size Y: 6.101341451638818
Band Count: 3
Pixel Type: U16
RasterFunction Infos: {"rasterFunctionInfos": [{
"name": "None",
"description": "",
"help": ""
}]}
Mensuration Capabilities: Basic
Has Histograms: true
Has Colormap: false
Has Multi Dimensions : false
Rendering Rule:
Min Scale: 150000
Max Scale: 600
Min LOD: 0
Max LOD: 8
Copyright Text: USGS, BLM
Service Data Type: esriImageServiceDataTypeGeneric
Min Values: 0, 0, 0
Max Values: 255, 255, 255
Mean Values: 203.04639574627888, 194.3839932366047, 182.23869112220385
Standard Deviation Values: 34.46363217514431, 36.384137781590745, 39.431101798408754
Object ID Field:
Fields:
None
Default Mosaic Method: Center
Allowed Mosaic Methods:
SortField:
SortValue: null
Mosaic Operator: First
Default Compression Quality: 75
Default Resampling Method: Bilinear
Max Record Count: null
Max Image Height: 4100
Max Image Width: 15000
Max Download Image Count: null
Max Mosaic Image Count: null
Allow Raster Function: true
Allow Compute TiePoints: false
Supports Statistics: false
Supports Advanced Queries: false
Use StandardizedQueries: true
Raster Type Infos:
Name: Raster Dataset
Description: Supports all ArcGIS Raster Datasets
Help:
Has Raster Attribute Table: false
Edit Fields Info: null
Ownership Based AccessControl For Rasters: null
Child Resources:
Info
Histograms
Key Properties
Legend
MultiDimensionalInfo
rasterFunctionInfos
Supported Operations:
Export Image
Identify
Measure
Compute Histograms
Compute Statistics Histograms
Get Samples
Compute Class Statistics
Query Boundary
Compute Pixel Location