View In:
ArcGIS JavaScript
ArcGIS Online Map Viewer
ArcGIS Earth
ArcMap
View Footprint In:
ArcGIS Online Map Viewer
Service Description: City of Little Rock Aerial Photography 1970
Name: Mosaic_1970_Aerial_Photography
Description: City of Little Rock Aerial Photography 1970
Single Fused Map Cache: true
Tile Info:
- Height: 256
- Width: 256
- DPI: 96
-
Levels of Detail: 9
- Format: JPEG
- Compression Quality: 90.0
- LERC Error: NaN
- Origin: X: -1.223283E8
Y: 1.533728E8
- Spatial Reference: 102651
(3433)
Extent:
XMin: 1139523.3121478064
YMin: 102371.82695608368
XMax: 1280082.3082121091
YMax: 191620.54266531047
Spatial Reference: 102651
(3433)
Initial Extent:
XMin: 1139523.3121478064
YMin: 102371.82695608368
XMax: 1280082.3082121091
YMax: 191620.54266531047
Spatial Reference: 102651
(3433)
Full Extent:
XMin: 1139523.3121478064
YMin: 102371.82695608368
XMax: 1280082.3082121091
YMax: 191620.54266531047
Spatial Reference: 102651
(3433)
Pixel Size X: 2.061647394530534
Pixel Size Y: 2.0616473945305334
Band Count: 1
Pixel Type: U8
RasterFunction Infos: {"rasterFunctionInfos": [{
"name": "None",
"description": "",
"help": ""
}]}
Mensuration Capabilities: Basic
Has Histograms: true
Has Colormap: false
Has Multi Dimensions : false
Rendering Rule:
Min Scale: 150000
Max Scale: 600
Min LOD: 0
Max LOD: 8
Copyright Text: USGS
Service Data Type: esriImageServiceDataTypeGeneric
Min Values: 0
Max Values: 255
Mean Values: 140.41609379232816
Standard Deviation Values: 51.7692172194829
Object ID Field:
Fields:
None
Default Mosaic Method: Center
Allowed Mosaic Methods:
SortField:
SortValue: null
Mosaic Operator: First
Default Compression Quality: 75
Default Resampling Method: Bilinear
Max Record Count: null
Max Image Height: 4100
Max Image Width: 15000
Max Download Image Count: null
Max Mosaic Image Count: null
Allow Raster Function: true
Allow Compute TiePoints: false
Supports Statistics: false
Supports Advanced Queries: false
Use StandardizedQueries: true
Raster Type Infos:
Name: Raster Dataset
Description: Supports all ArcGIS Raster Datasets
Help:
Has Raster Attribute Table: false
Edit Fields Info: null
Ownership Based AccessControl For Rasters: null
Child Resources:
Info
Histograms
Key Properties
Legend
MultiDimensionalInfo
rasterFunctionInfos
Supported Operations:
Export Image
Identify
Measure
Compute Histograms
Compute Statistics Histograms
Get Samples
Compute Class Statistics
Query Boundary
Compute Pixel Location